BEGIN:VCALENDAR
VERSION:2.0
PRODID:-//ChamberMaster//Event Calendar 2.0//EN
METHOD:PUBLISH
X-PUBLISHED-TTL:P3D
REFRESH-INTERVAL:P3D
CALSCALE:GREGORIAN
BEGIN:VEVENT
DTSTART:20260807T180000Z
DTEND:20260807T190000Z
X-MICROSOFT-CDO-ALLDAYEVENT:FALSE
SUMMARY:21st Century Talent Policy Priority Committee
DESCRIPTION:
X-ALT-DESC;FMTTYPE=text/html:
LOCATION:
UID:e.1879.1246
SEQUENCE:3
DTSTAMP:20260423T170306Z
URL:http://business.neinadvocates.com/events/details/21st-century-talent-policy-priority-committee-1246
END:VEVENT

END:VCALENDAR
